BEGIN:VCALENDAR
VERSION:2.0
PRODID:-//digital-verkaufen-lernen.de - ECPv6.15.20//NONSGML v1.0//EN
CALSCALE:GREGORIAN
METHOD:PUBLISH
X-WR-CALNAME:digital-verkaufen-lernen.de
X-ORIGINAL-URL:https://digital-verkaufen-lernen.de
X-WR-CALDESC:Veranstaltungen für digital-verkaufen-lernen.de
REFRESH-INTERVAL;VALUE=DURATION:PT1H
X-Robots-Tag:noindex
X-PUBLISHED-TTL:PT1H
BEGIN:VTIMEZONE
TZID:Europe/Berlin
BEGIN:DAYLIGHT
TZOFFSETFROM:+0100
TZOFFSETTO:+0200
TZNAME:CEST
DTSTART:20210328T010000
END:DAYLIGHT
BEGIN:STANDARD
TZOFFSETFROM:+0200
TZOFFSETTO:+0100
TZNAME:CET
DTSTART:20211031T010000
END:STANDARD
BEGIN:DAYLIGHT
TZOFFSETFROM:+0100
TZOFFSETTO:+0200
TZNAME:CEST
DTSTART:20220327T010000
END:DAYLIGHT
BEGIN:STANDARD
TZOFFSETFROM:+0200
TZOFFSETTO:+0100
TZNAME:CET
DTSTART:20221030T010000
END:STANDARD
BEGIN:DAYLIGHT
TZOFFSETFROM:+0100
TZOFFSETTO:+0200
TZNAME:CEST
DTSTART:20230326T010000
END:DAYLIGHT
BEGIN:STANDARD
TZOFFSETFROM:+0200
TZOFFSETTO:+0100
TZNAME:CET
DTSTART:20231029T010000
END:STANDARD
END:VTIMEZONE
BEGIN:VEVENT
DTSTART;TZID=Europe/Berlin:20220111T100000
DTEND;TZID=Europe/Berlin:20220111T110000
DTSTAMP:20260423T102424
CREATED:20211130T122621Z
LAST-MODIFIED:20220110T234118Z
UID:15356-1641895200-1641898800@digital-verkaufen-lernen.de
SUMMARY:Automatisiertes Versicherungsgeschäft 11.01.
DESCRIPTION:„Automatisiertes Versicherungsgeschäft 11.01.“ am Dienstag den 11. Januar mit Frank Windelband. Mehr Neukunden\, Bestandsgeschäft auf Autopilot und weniger Stornos \nFrank Windelband betreut mit nur 2 Vollzeitkräften ca. 2.000 Kunden komplett automatisiert. Frank zeigt uns Schritt-für-Schritt\, wie er seine Kundenkontakte automatisiert und es schafft\, mindestens 30 Kontakte mit jedem Kunden pro Jahr zu haben.\nAußerdem zeigt uns Frank\, wie er seine Neukundenakquise automatisiert und wie sein halbautomatisiertes Nachfass-System funktioniert. \n\n        \n        \n            + Zum Google Kalender hinzufügen+ Zum Outlook oder Apple Kalender hinzufügen\n            \n                Teile dieses Event\n                \n                \n                \n            \n        \n\n        \n            Event-Anmeldung\n        \n        Ohne eine aktive DVL-Clubmitgliedschaft kannst du kostenlos an einem Termin teilnehmen. Wenn du bei allen Events automatisch dabei sein möchtest\, dann sichere dir jetzt deine DVL-Clubmitgliedschaft: Zu den Preisen. \nDVL-Clubmitglieder werden automatisch zu jedem Live Event eingeladen. \nDieser Live Call ist offen und kostenlos für alle. Du brauchst keine DVL-Clubmitgliedschaft\, um daran teilzunehmen. \n\n\n                \n                        X/TwitterDieses Feld dient zur Validierung und sollte nicht verändert werden.Dieses Feld wird bei der Anzeige des Formulars ausgeblendetEvent(erforderlich)Dieses Feld wird bei der Anzeige des Formulars ausgeblendetClub Subscription StatusDieses Feld wird bei der Anzeige des Formulars ausgeblendetDomainDieses Feld wird bei der Anzeige des Formulars ausgeblendetKategorieDieses Feld wird bei der Anzeige des Formulars ausgeblendetReferrerDieses Feld wird bei der Anzeige des Formulars ausgeblendetDatum(erforderlich)\n                            \n                            TT Punkt MM Punkt JJJJ\n                        \n                        Dieses Feld wird bei der Anzeige des Formulars ausgeblendetUhrzeit(erforderlich)Ihr Name(erforderlich)\n                            \n                            \n                                                    \n                                                    Vorname\n                                                \n                            \n                            \n                                                    \n                                                    Nachname\n                                                \n                            \n                        Ihre E-Mail-Adresse(erforderlich)\n                            \n                        Einwilligung(erforderlich) Hiermit stimme ich der Speicherung und Verarbeitung meiner angegebenen Daten zu. Mehr dazu in der Datenschutzerklärung.(erforderlich)
URL:https://digital-verkaufen-lernen.de/veranstaltung/automatisiertes-versicherungsgeschaeft-11-01/
LOCATION:Online
CATEGORIES:DVL-Club Live Calls,Live Calls (offen für alle)
END:VEVENT
END:VCALENDAR