BEGIN:VCALENDAR
VERSION:2.0
PRODID:-//digital-verkaufen-lernen.de - ECPv6.15.20//NONSGML v1.0//EN
CALSCALE:GREGORIAN
METHOD:PUBLISH
X-WR-CALNAME:digital-verkaufen-lernen.de
X-ORIGINAL-URL:https://digital-verkaufen-lernen.de
X-WR-CALDESC:Veranstaltungen für digital-verkaufen-lernen.de
REFRESH-INTERVAL;VALUE=DURATION:PT1H
X-Robots-Tag:noindex
X-PUBLISHED-TTL:PT1H
BEGIN:VTIMEZONE
TZID:Europe/Berlin
BEGIN:DAYLIGHT
TZOFFSETFROM:+0100
TZOFFSETTO:+0200
TZNAME:CEST
DTSTART:20240331T010000
END:DAYLIGHT
BEGIN:STANDARD
TZOFFSETFROM:+0200
TZOFFSETTO:+0100
TZNAME:CET
DTSTART:20241027T010000
END:STANDARD
BEGIN:DAYLIGHT
TZOFFSETFROM:+0100
TZOFFSETTO:+0200
TZNAME:CEST
DTSTART:20250330T010000
END:DAYLIGHT
BEGIN:STANDARD
TZOFFSETFROM:+0200
TZOFFSETTO:+0100
TZNAME:CET
DTSTART:20251026T010000
END:STANDARD
BEGIN:DAYLIGHT
TZOFFSETFROM:+0100
TZOFFSETTO:+0200
TZNAME:CEST
DTSTART:20260329T010000
END:DAYLIGHT
BEGIN:STANDARD
TZOFFSETFROM:+0200
TZOFFSETTO:+0100
TZNAME:CET
DTSTART:20261025T010000
END:STANDARD
END:VTIMEZONE
BEGIN:VEVENT
DTSTART;TZID=Europe/Berlin:20250116T100000
DTEND;TZID=Europe/Berlin:20250116T110000
DTSTAMP:20260423T114614
CREATED:20241219T082123Z
LAST-MODIFIED:20241219T082123Z
UID:30231-1737021600-1737025200@digital-verkaufen-lernen.de
SUMMARY:Digitales Jahr des Vermittlers Q1
DESCRIPTION:Wir starten das neue Jahr voller Energie – gemeinsam mit unseren Experten\, der DVL-Community und dir! Freu dich auf spannende Events\, innovative Umsetzungen und wertvolle Weiterbildungen. Ganz neu: Ab jetzt begleiten wir dich quartalsweise mit tiefen Einblicken\, damit du bis Ende 2025 rundum digital aufgestellt bist. \n\n        \n        \n            + Zum Google Kalender hinzufügen+ Zum Outlook oder Apple Kalender hinzufügen\n            \n                Teile dieses Event\n                \n                \n                \n            \n        \n\n        \n            Event-Anmeldung\n        \n        \n\n                \n                        CommentsDieses Feld dient zur Validierung und sollte nicht verändert werden.Dieses Feld wird bei der Anzeige des Formulars ausgeblendetEvent(erforderlich)Dieses Feld wird bei der Anzeige des Formulars ausgeblendetClub Subscription StatusDieses Feld wird bei der Anzeige des Formulars ausgeblendetDomainDieses Feld wird bei der Anzeige des Formulars ausgeblendetKategorieDieses Feld wird bei der Anzeige des Formulars ausgeblendetReferrerDieses Feld wird bei der Anzeige des Formulars ausgeblendetDatum(erforderlich)\n                            \n                            TT Punkt MM Punkt JJJJ\n                        \n                        Dieses Feld wird bei der Anzeige des Formulars ausgeblendetUhrzeit(erforderlich)Ihr Name(erforderlich)\n                            \n                            \n                                                    \n                                                    Vorname\n                                                \n                            \n                            \n                                                    \n                                                    Nachname\n                                                \n                            \n                        Ihre E-Mail-Adresse(erforderlich)\n                            \n                        Einwilligung(erforderlich) Hiermit stimme ich der Speicherung und Verarbeitung meiner angegebenen Daten zu. Mehr dazu in der Datenschutzerklärung.(erforderlich)
URL:https://digital-verkaufen-lernen.de/veranstaltung/digitales-jahr-des-vermittlers-q1/
END:VEVENT
END:VCALENDAR