BEGIN:VCALENDAR
VERSION:2.0
PRODID:-//digital-verkaufen-lernen.de - ECPv6.15.20//NONSGML v1.0//EN
CALSCALE:GREGORIAN
METHOD:PUBLISH
X-WR-CALNAME:digital-verkaufen-lernen.de
X-ORIGINAL-URL:https://digital-verkaufen-lernen.de
X-WR-CALDESC:Veranstaltungen für digital-verkaufen-lernen.de
REFRESH-INTERVAL;VALUE=DURATION:PT1H
X-Robots-Tag:noindex
X-PUBLISHED-TTL:PT1H
BEGIN:VTIMEZONE
TZID:Europe/Berlin
BEGIN:DAYLIGHT
TZOFFSETFROM:+0100
TZOFFSETTO:+0200
TZNAME:CEST
DTSTART:20250330T010000
END:DAYLIGHT
BEGIN:STANDARD
TZOFFSETFROM:+0200
TZOFFSETTO:+0100
TZNAME:CET
DTSTART:20251026T010000
END:STANDARD
BEGIN:DAYLIGHT
TZOFFSETFROM:+0100
TZOFFSETTO:+0200
TZNAME:CEST
DTSTART:20260329T010000
END:DAYLIGHT
BEGIN:STANDARD
TZOFFSETFROM:+0200
TZOFFSETTO:+0100
TZNAME:CET
DTSTART:20261025T010000
END:STANDARD
BEGIN:DAYLIGHT
TZOFFSETFROM:+0100
TZOFFSETTO:+0200
TZNAME:CEST
DTSTART:20270328T010000
END:DAYLIGHT
BEGIN:STANDARD
TZOFFSETFROM:+0200
TZOFFSETTO:+0100
TZNAME:CET
DTSTART:20271031T010000
END:STANDARD
END:VTIMEZONE
BEGIN:VEVENT
DTSTART;TZID=Europe/Berlin:20260528T100000
DTEND;TZID=Europe/Berlin:20260528T110000
DTSTAMP:20260422T194830
CREATED:20260422T052431Z
LAST-MODIFIED:20260422T052431Z
UID:182344-1779962400-1779966000@digital-verkaufen-lernen.de
SUMMARY:Kunden vorladen\, um massenweise Termine zu generieren
DESCRIPTION:In diesem Webinar zeigt dir Nadine – Bürokraft in einer Allianz-Agentur – wie du als Versicherungsvermittler endlich planbar neue Beratungstermine bekommst\, statt auf Anfragen zu hoffen. Sie hat den Prozess in unserer Bürokräfte-Weiterbildung gelernt und direkt erfolgreich in der Praxis umgesetzt. \nDu erfährst konkret\, wie du deine Bestandskunden gezielt „vorlädst“\, um daraus systematisch Termine zu generieren – ohne Kaltakquise und ohne Druck. Nadine nimmt dich Schritt für Schritt mit durch ihren Ablauf\, ihre Vorlagen und ihre Erfahrungen aus dem Alltag. \nDas nimmst du mit:\n	•	Einen klaren Prozess\, wie du aktiv Termine steuerst\n	•	Konkrete Formulierungen und Vorlagen zum direkten Umsetzen\n	•	Mehr Auslastung im Kalender – ohne zusätzlichen Stress\n	•	Klarheit\, wie deine Bürokraft dich dabei optimal unterstützen kann \nWenn du genug davon hast zu warten\, bis Kunden sich melden\, dann ist dieses Webinar genau für dich.\nMelde dich jetzt an und hol dir einen planbaren Strom an Terminen. \n\n        \n        \n            + Zum Google Kalender hinzufügen+ Zum Outlook oder Apple Kalender hinzufügen\n            \n                Teile dieses Event\n                \n                \n                \n            \n        \n\n        \n            Event-Anmeldung\n        \n        Ohne eine aktive DVL-Clubmitgliedschaft kannst du kostenlos an einem Termin teilnehmen. Wenn du bei allen Events automatisch dabei sein möchtest\, dann sichere dir jetzt deine DVL-Clubmitgliedschaft: Zu den Preisen. \nDVL-Clubmitglieder werden automatisch zu jedem Live Event eingeladen. \n\n\n                \n                        InstagramDieses Feld dient zur Validierung und sollte nicht verändert werden.Dieses Feld wird bei der Anzeige des Formulars ausgeblendetEvent(erforderlich)Dieses Feld wird bei der Anzeige des Formulars ausgeblendetClub Subscription StatusDieses Feld wird bei der Anzeige des Formulars ausgeblendetDomainDieses Feld wird bei der Anzeige des Formulars ausgeblendetKategorieDieses Feld wird bei der Anzeige des Formulars ausgeblendetReferrerDieses Feld wird bei der Anzeige des Formulars ausgeblendetDatum(erforderlich)\n                            \n                            TT Punkt MM Punkt JJJJ\n                        \n                        Dieses Feld wird bei der Anzeige des Formulars ausgeblendetUhrzeit(erforderlich)Ihr Name(erforderlich)\n                            \n                            \n                                                    \n                                                    Vorname\n                                                \n                            \n                            \n                                                    \n                                                    Nachname\n                                                \n                            \n                        Ihre E-Mail-Adresse(erforderlich)\n                            \n                        Einwilligung(erforderlich) Hiermit stimme ich der Speicherung und Verarbeitung meiner angegebenen Daten zu. Mehr dazu in der Datenschutzerklärung.(erforderlich)
URL:https://digital-verkaufen-lernen.de/veranstaltung/kunden-vorladen-um-massenweise-termine-zu-generieren-2/
CATEGORIES:DVL-Club Live Calls
END:VEVENT
END:VCALENDAR