BEGIN:VCALENDAR
VERSION:2.0
PRODID:-//digital-verkaufen-lernen.de - ECPv6.15.20//NONSGML v1.0//EN
CALSCALE:GREGORIAN
METHOD:PUBLISH
X-WR-CALNAME:digital-verkaufen-lernen.de
X-ORIGINAL-URL:https://digital-verkaufen-lernen.de
X-WR-CALDESC:Veranstaltungen für digital-verkaufen-lernen.de
REFRESH-INTERVAL;VALUE=DURATION:PT1H
X-Robots-Tag:noindex
X-PUBLISHED-TTL:PT1H
BEGIN:VTIMEZONE
TZID:Europe/Berlin
BEGIN:DAYLIGHT
TZOFFSETFROM:+0100
TZOFFSETTO:+0200
TZNAME:CEST
DTSTART:20240331T010000
END:DAYLIGHT
BEGIN:STANDARD
TZOFFSETFROM:+0200
TZOFFSETTO:+0100
TZNAME:CET
DTSTART:20241027T010000
END:STANDARD
BEGIN:DAYLIGHT
TZOFFSETFROM:+0100
TZOFFSETTO:+0200
TZNAME:CEST
DTSTART:20250330T010000
END:DAYLIGHT
BEGIN:STANDARD
TZOFFSETFROM:+0200
TZOFFSETTO:+0100
TZNAME:CET
DTSTART:20251026T010000
END:STANDARD
BEGIN:DAYLIGHT
TZOFFSETFROM:+0100
TZOFFSETTO:+0200
TZNAME:CEST
DTSTART:20260329T010000
END:DAYLIGHT
BEGIN:STANDARD
TZOFFSETFROM:+0200
TZOFFSETTO:+0100
TZNAME:CET
DTSTART:20261025T010000
END:STANDARD
END:VTIMEZONE
BEGIN:VEVENT
DTSTART;TZID=Europe/Berlin:20250324T140000
DTEND;TZID=Europe/Berlin:20250324T150000
DTSTAMP:20260420T173502
CREATED:20250715T154651Z
LAST-MODIFIED:20250715T154651Z
UID:30247-1742824800-1742828400@digital-verkaufen-lernen.de
SUMMARY:Mache deine Bürokraft zum unschlagbaren Erfolgsfaktor deiner Agentur 21.08.2025
DESCRIPTION:In diesem Webinar erfährst du\, wie du deine Bürokraft in nur einem Jahr zur unverzichtbaren Stütze deiner Agentur machst. Wir stellen dir eine 100% förderfähige Weiterbildung vor\, die deinen Mitarbeiter dazu befähigt\, Büroabläufe effizienter zu gestalten\, selbstständig Projekte voranzutreiben und deine Agentur nachhaltig zu stärken. \nVerpasse nicht die Gelegenheit\, dein Team auf das nächste Level zu bringen und deine Agentur zukunftssicher aufzustellen. Melde dich jetzt zum Webinar an und sichere dir deinen Platz! \n\n        \n        \n            + Zum Google Kalender hinzufügen+ Zum Outlook oder Apple Kalender hinzufügen\n            \n                Teile dieses Event\n                \n                \n                \n            \n        \n\n        \n            Event-Anmeldung\n        \n        Dieser Live Call ist offen und kostenlos für alle. Du brauchst keine DVL-Clubmitgliedschaft\, um daran teilzunehmen. \n\n\n                \n                        InstagramDieses Feld dient zur Validierung und sollte nicht verändert werden.Dieses Feld wird bei der Anzeige des Formulars ausgeblendetEvent(erforderlich)Dieses Feld wird bei der Anzeige des Formulars ausgeblendetClub Subscription StatusDieses Feld wird bei der Anzeige des Formulars ausgeblendetDomainDieses Feld wird bei der Anzeige des Formulars ausgeblendetKategorieDieses Feld wird bei der Anzeige des Formulars ausgeblendetReferrerDieses Feld wird bei der Anzeige des Formulars ausgeblendetDatum(erforderlich)\n                            \n                            TT Punkt MM Punkt JJJJ\n                        \n                        Dieses Feld wird bei der Anzeige des Formulars ausgeblendetUhrzeit(erforderlich)Ihr Name(erforderlich)\n                            \n                            \n                                                    \n                                                    Vorname\n                                                \n                            \n                            \n                                                    \n                                                    Nachname\n                                                \n                            \n                        Ihre E-Mail-Adresse(erforderlich)\n                            \n                        Einwilligung(erforderlich) Hiermit stimme ich der Speicherung und Verarbeitung meiner angegebenen Daten zu. Mehr dazu in der Datenschutzerklärung.(erforderlich)
URL:https://digital-verkaufen-lernen.de/veranstaltung/mache-deine-buerokraft-zum-unschlagbaren-erfolgsfaktor-deiner-agentur-06-05-2025/
CATEGORIES:Live Calls (offen für alle)
END:VEVENT
END:VCALENDAR