BEGIN:VCALENDAR
VERSION:2.0
PRODID:-//digital-verkaufen-lernen.de - ECPv6.15.20//NONSGML v1.0//EN
CALSCALE:GREGORIAN
METHOD:PUBLISH
X-WR-CALNAME:digital-verkaufen-lernen.de
X-ORIGINAL-URL:https://digital-verkaufen-lernen.de
X-WR-CALDESC:Veranstaltungen für digital-verkaufen-lernen.de
REFRESH-INTERVAL;VALUE=DURATION:PT1H
X-Robots-Tag:noindex
X-PUBLISHED-TTL:PT1H
BEGIN:VTIMEZONE
TZID:Europe/Berlin
BEGIN:DAYLIGHT
TZOFFSETFROM:+0100
TZOFFSETTO:+0200
TZNAME:CEST
DTSTART:20230326T010000
END:DAYLIGHT
BEGIN:STANDARD
TZOFFSETFROM:+0200
TZOFFSETTO:+0100
TZNAME:CET
DTSTART:20231029T010000
END:STANDARD
BEGIN:DAYLIGHT
TZOFFSETFROM:+0100
TZOFFSETTO:+0200
TZNAME:CEST
DTSTART:20240331T010000
END:DAYLIGHT
BEGIN:STANDARD
TZOFFSETFROM:+0200
TZOFFSETTO:+0100
TZNAME:CET
DTSTART:20241027T010000
END:STANDARD
BEGIN:DAYLIGHT
TZOFFSETFROM:+0100
TZOFFSETTO:+0200
TZNAME:CEST
DTSTART:20250330T010000
END:DAYLIGHT
BEGIN:STANDARD
TZOFFSETFROM:+0200
TZOFFSETTO:+0100
TZNAME:CET
DTSTART:20251026T010000
END:STANDARD
END:VTIMEZONE
BEGIN:VEVENT
DTSTART;TZID=Europe/Berlin:20240222T100000
DTEND;TZID=Europe/Berlin:20240222T120000
DTSTAMP:20260422T195949
CREATED:20240206T143920Z
LAST-MODIFIED:20240206T143920Z
UID:28476-1708596000-1708603200@digital-verkaufen-lernen.de
SUMMARY:Maximiere deinen Erfolg mit WhatsApp Business (Fortgeschrittene)
DESCRIPTION:Du willst deine Kundenkommunikation auf das nächste Level bringen? In unserem kommenden Umsetzungsworkshop zeigt dir Frank Windelband\, wie er mit den fortgeschrittenen Funktionen von WhatsApp Business seinen Umsatz als Versicherungsvermittler steigert. Erfahre\, wie du Statusmeldungen strategisch einsetzt\, Labels zur effizienten Organisation nutzt und Schnellantworten für eine schnelle und effektive Kommunikation verwendest. Dieses Webinar ist perfekt für dich\, wenn du WhatsApp Business bereits eingerichtet hast und jetzt bereit bist\, tiefer einzutauchen. Melde dich jetzt an und nutze WhatsApp Business\, um deine Kundenbeziehungen und deine Effizienz zu optimieren. Wir freuen uns darauf\, dir zu zeigen\, wie du das volle Potenzial von WhatsApp Business als Versicherungsvermittler ausschöpfst! \n\n        \n        \n            + Zum Google Kalender hinzufügen+ Zum Outlook oder Apple Kalender hinzufügen\n            \n                Teile dieses Event\n                \n                \n                \n            \n        \n\n        \n            Event-Anmeldung\n        \n        Unsere Umsetzungsworkshops sind praxisorientierte Workshops für Versicherungsvermittler\, die ihre digitalen Fähigkeiten verbessern und ihr Wissen vertiefen möchten. In jedem Workshop behandeln wir ein spezifisches Thema\, das für die digitale Transformation von Versicherungsvermittlern relevant ist. Durch die Kombination von theoretischen Inhalten und praktischen Übungen haben die Teilnehmerinnen und Teilnehmer die Möglichkeit\, ihr Wissen direkt in der Praxis anzuwenden. \nIn den Umsetzungsworkshops haben die Teilnehmer die Möglichkeit\, Fragen zu stellen und gemeinsam mit anderen Teilnehmern und unseren Experten an Lösungen zu arbeiten. Jeder Workshop dauert ca. 2 Stunden und bietet genug Zeit für den Austausch von Erfahrungen und Best Practices. \nUnsere Umsetzungsworkshops sind darauf ausgerichtet\, Versicherungsvermittlern das Wissen und die Fähigkeiten zu vermitteln\, die sie benötigen\, um ihre Arbeit effektiver und effizienter zu gestalten. Wenn du als Versicherungsvermittler dein digitales Wissen vertiefen möchtest\, solltest du unsere Umsetzungsworkshops in Betracht ziehen. Wir freuen uns darauf\, dich in unseren Workshops begrüßen zu dürfen! \n\n\n                \n                        InstagramDieses Feld dient zur Validierung und sollte nicht verändert werden.Dieses Feld wird bei der Anzeige des Formulars ausgeblendetEvent(erforderlich)Dieses Feld wird bei der Anzeige des Formulars ausgeblendetClub Subscription StatusDieses Feld wird bei der Anzeige des Formulars ausgeblendetDomainDieses Feld wird bei der Anzeige des Formulars ausgeblendetKategorieDieses Feld wird bei der Anzeige des Formulars ausgeblendetReferrerDieses Feld wird bei der Anzeige des Formulars ausgeblendetDatum(erforderlich)\n                            \n                            TT Punkt MM Punkt JJJJ\n                        \n                        Dieses Feld wird bei der Anzeige des Formulars ausgeblendetUhrzeit(erforderlich)Ihr Name(erforderlich)\n                            \n                            \n                                                    \n                                                    Vorname\n                                                \n                            \n                            \n                                                    \n                                                    Nachname\n                                                \n                            \n                        Ihre E-Mail-Adresse(erforderlich)\n                            \n                        Einwilligung(erforderlich) Hiermit stimme ich der Speicherung und Verarbeitung meiner angegebenen Daten zu. Mehr dazu in der Datenschutzerklärung.(erforderlich)
URL:https://digital-verkaufen-lernen.de/veranstaltung/maximiere-deinen-erfolg-mit-whatsapp-business/
CATEGORIES:Umsetzungsworkshop
END:VEVENT
END:VCALENDAR