BEGIN:VCALENDAR
VERSION:2.0
PRODID:-//digital-verkaufen-lernen.de - ECPv6.15.20//NONSGML v1.0//EN
CALSCALE:GREGORIAN
METHOD:PUBLISH
X-WR-CALNAME:digital-verkaufen-lernen.de
X-ORIGINAL-URL:https://digital-verkaufen-lernen.de
X-WR-CALDESC:Veranstaltungen für digital-verkaufen-lernen.de
REFRESH-INTERVAL;VALUE=DURATION:PT1H
X-Robots-Tag:noindex
X-PUBLISHED-TTL:PT1H
BEGIN:VTIMEZONE
TZID:Europe/Berlin
BEGIN:DAYLIGHT
TZOFFSETFROM:+0100
TZOFFSETTO:+0200
TZNAME:CEST
DTSTART:20230326T010000
END:DAYLIGHT
BEGIN:STANDARD
TZOFFSETFROM:+0200
TZOFFSETTO:+0100
TZNAME:CET
DTSTART:20231029T010000
END:STANDARD
BEGIN:DAYLIGHT
TZOFFSETFROM:+0100
TZOFFSETTO:+0200
TZNAME:CEST
DTSTART:20240331T010000
END:DAYLIGHT
BEGIN:STANDARD
TZOFFSETFROM:+0200
TZOFFSETTO:+0100
TZNAME:CET
DTSTART:20241027T010000
END:STANDARD
BEGIN:DAYLIGHT
TZOFFSETFROM:+0100
TZOFFSETTO:+0200
TZNAME:CEST
DTSTART:20250330T010000
END:DAYLIGHT
BEGIN:STANDARD
TZOFFSETFROM:+0200
TZOFFSETTO:+0100
TZNAME:CET
DTSTART:20251026T010000
END:STANDARD
END:VTIMEZONE
BEGIN:VEVENT
DTSTART;TZID=Europe/Berlin:20240912T100000
DTEND;TZID=Europe/Berlin:20240912T111500
DTSTAMP:20260420T133058
CREATED:20240715T143420Z
LAST-MODIFIED:20240715T143422Z
UID:28947-1726135200-1726139700@digital-verkaufen-lernen.de
SUMMARY:Meistertask und seine Nutzungsmöglichkeiten für Vermittler
DESCRIPTION:In diesem Webinar erfährst du\, wie du als Versicherungsvermittler Meistertask optimal einsetzen kannst\, um deine Aufgabenverwaltung und Kundenbetreuung effizienter zu gestalten. Wir zeigen dir verschiedene Anwendungsbeispiele von Kollegen\, die Meistertask bereits erfolgreich nutzen. Dabei erfährst du\, wie du deine To-Do-Listen strukturiert und übersichtlich hältst\, Kundenanfragen und -informationen effizient verwaltest und durch gezielte Automatisierungen deine Produktivität steigerst. Zudem erfährst du\, wie du deine Prozesse nach Kundenkontakt optimierst\, um langfristig erfolgreicher zu sein. Melde dich jetzt an und erhalte wertvolle Tipps\, um deinen Arbeitsalltag als Versicherungsvermittler zu vereinfachen und deinen Erfolg zu maximieren. \n\n        \n        \n            + Zum Google Kalender hinzufügen+ Zum Outlook oder Apple Kalender hinzufügen\n            \n                Teile dieses Event\n                \n                \n                \n            \n        \n\n        \n            Event-Anmeldung\n        \n        Dieser Live Call ist offen und kostenlos für alle. Du brauchst keine DVL-Clubmitgliedschaft\, um daran teilzunehmen. \n\n\n                \n                        FacebookDieses Feld dient zur Validierung und sollte nicht verändert werden.Dieses Feld wird bei der Anzeige des Formulars ausgeblendetEvent(erforderlich)Dieses Feld wird bei der Anzeige des Formulars ausgeblendetClub Subscription StatusDieses Feld wird bei der Anzeige des Formulars ausgeblendetDomainDieses Feld wird bei der Anzeige des Formulars ausgeblendetKategorieDieses Feld wird bei der Anzeige des Formulars ausgeblendetReferrerDieses Feld wird bei der Anzeige des Formulars ausgeblendetDatum(erforderlich)\n                            \n                            TT Punkt MM Punkt JJJJ\n                        \n                        Dieses Feld wird bei der Anzeige des Formulars ausgeblendetUhrzeit(erforderlich)Ihr Name(erforderlich)\n                            \n                            \n                                                    \n                                                    Vorname\n                                                \n                            \n                            \n                                                    \n                                                    Nachname\n                                                \n                            \n                        Ihre E-Mail-Adresse(erforderlich)\n                            \n                        Einwilligung(erforderlich) Hiermit stimme ich der Speicherung und Verarbeitung meiner angegebenen Daten zu. Mehr dazu in der Datenschutzerklärung.(erforderlich)
URL:https://digital-verkaufen-lernen.de/veranstaltung/meistertask-und-seine-nutzungsmoeglichkeiten-fuer-vermittler/
CATEGORIES:Live Calls (offen für alle)
END:VEVENT
END:VCALENDAR